BEGIN:VCALENDAR
VERSION:2.0
PRODID:-//IP.Board Calendar 4.4.10//EN
METHOD:PUBLISH
CALSCALE:GREGORIAN
X-WR-CALNAME:Игры и Сборы
BEGIN:VTIMEZONE
TZID:Europe/London
TZURL:http://tzurl.org/zoneinfo/Europe/London
X-LIC-LOCATION:Europe/London
BEGIN:DAYLIGHT
TZOFFSETFROM:+0000
TZOFFSETTO:+0100
TZNAME:BST
DTSTART:20200329T020000Z
RRULE:FREQ=YEARLY;BYMONTH=3;BYDAY=-1SU
END:DAYLIGHT
BEGIN:STANDARD
TZOFFSETFROM:+0100
TZOFFSETTO:+0000
TZNAME:GMT
DTSTART:20201025T020000Z
RRULE:FREQ=YEARLY;BYMONTH=10;BYDAY=-1SU
END:STANDARD
END:VTIMEZONE
BEGIN:VEVENT
SUMMARY:Нефтяной капкан (The Red)
DTSTAMP:20201030T075047Z
SEQUENCE:0
UID:245-2-7dca8a21a4c482aeb41462120b156003@guardians.team
ORGANIZER;CN="Крази":admin@guardians.team
DESCRIPTION:\n\n	Тема игры\n\n\n\n	 \n\n\n\n	
	2024 год. Восточная
	 Европа\n\n\n	
	После серьёзно
	го боевого столк
	новения топливно
	-нефтяная корпорация
	 \"UNIX\" потеряла тер
	риторию и стату
	с\, где она вл
	аствовала\
	, добывая 
	ресурсы 
	в обход пр
	авил международной
	 организации контроля промышл
	енных ресурсов \"Harvest group\".
	\n\n	Уходя за поля
	 и овраги\, посл
	е поражения о
	т спецназа военн
	ой полиции\, затаивш
	ись\, полевые команд
	иры наемников \"UN
	IX\" поклялись в
	озвратиться\, 
	и устроить на
	стоящий армаге
	ддон новым - стар
	ым хозяевам. Их уже не
	 волновал сам регион\,
	 где была добыча.\n\
	n	Месть - вот основно
	й мотив\, который 
	вернул силы аван
	тюристам\,\n\n	и 
	обеспечил быстры
	й сбор наемников к 
	новой атаке на рег
	ион\,\n\n	старые с
	вязи решают все
	. Обещающий куш 
	был заманчив и 
	для простых н
	аемников\, т
	ак как на м
	есте стар
	ых боев бы
	ла восстан
	овлена инф
	раструктура\,
	 стабилизирова
	лась обстановка\, на
	чата добыча нефти\, 
	есть чем поживитс
	я.\n\n\n	В нефтед
	обывающей 
	зоне\, осно
	вное охран
	ение было 
	поручено 
	небольшой
	 группе моб
	ильной охра
	ны\, остал
	ьные подр
	азделения
	 военной пол
	иции были в
	ыведены и р
	асквартиро
	ваны в сосе
	днем регионе. В 
	случае осложнен
	ий на подконтроль
	ной территории\,
	\n\n	по тревоге
	 на помощь к
	 охране мо
	гла опера
	тивно выдвиг
	аться силовая
	 поддержка. Это
	 занимало опред
	еленное время\, 
	но выхода у военн
	ых не было\, ст
	роить новые 
	казармы на 
	новом месте\, это
	 непозволительна
	я роскошь после минувши
	х событий.\n\n\n	Проведя раз
	ведку\, наемники \"UNIX\
	" поняли\, что на
	стал момент в
	зять зону штурмом\
	, если это только
	 можно было назв
	ать штурмом\,\n\n	ли
	квидировать охр
	ану им не состави
	т большого труда
	.\n\n	Решено было скры
	тно подойти\, ун
	ичтожив местный уз
	ел связи\,\n\n	захв
	атить склад бо
	еприпасов и ГС
	М\, а также са
	ми нефтяны
	е площадки
	. Затем по
	стараться как 
	можно быстрей организова
	ть отправку захваченной н
	ефти.\n\n\n\n	 \n\n\n\n	ЦЕНА входного 
	билета составит - 1500
	р.\n\n	- в цену вх
	одного билет
	а входит обеспечен
	ие игры\, подгото
	вка полигона\, раб
	ота игротехов\,\n\n
		обеспечение воздухом\, питание (чайный
	 стол\, казан/гриль)\n\n
DTSTART;VALUE=DATE:20201107
END:VEVENT
END:VCALENDAR
