BEGIN:VCALENDAR
VERSION:2.0
PRODID:-//IP.Board Calendar 4.4.10//EN
METHOD:PUBLISH
CALSCALE:GREGORIAN
X-WR-CALNAME:Игры и Сборы
BEGIN:VTIMEZONE
TZID:Europe/London
TZURL:http://tzurl.org/zoneinfo/Europe/London
X-LIC-LOCATION:Europe/London
BEGIN:DAYLIGHT
TZOFFSETFROM:+0000
TZOFFSETTO:+0100
TZNAME:BST
DTSTART:20170326T020000Z
RRULE:FREQ=YEARLY;BYMONTH=3;BYDAY=-1SU
END:DAYLIGHT
BEGIN:STANDARD
TZOFFSETFROM:+0100
TZOFFSETTO:+0000
TZNAME:GMT
DTSTART:20171029T020000Z
RRULE:FREQ=YEARLY;BYMONTH=10;BYDAY=-1SU
END:STANDARD
END:VTIMEZONE
BEGIN:VEVENT
SUMMARY:Тренировка в Полигон-М
DTSTAMP:20170221T181423Z
SEQUENCE:0
UID:134-2-7dca8a21a4c482aeb41462120b156003@guardians.team
ORGANIZER;CN="kostet":admin@guardians.team
DESCRIPTION:\n\n	тема тут\n\n\n\n	 \n\n
	\n\n	мы проводим тактическую 
	тренировку в Полигон-М\n\n\n\n	 \n\n\n
	\n	ПЛАН мероприятия\n\n\n\n	 \n\n\n\n	0.
	 Разминка\, легкое ФИЗО.\n\n\n\n
		1. Индивидуальная техника.\n
	\n\n\n	2. Атака/оборона укрытий 
	в паре.\n\n\n\n	3. Сам
	а сценарка\,
	 где будут отработан
	ы изученные элементы и полу
	чен должный фан.\n\n\n\n	 \n\
	n\n\n	ибо как говоритс
	я\, \"подобное укр
	епляется подобным\
	" т.е. хотите научиться стрелять - 
	идите и стреляйте.\n\n
DTSTART;VALUE=DATE:20170223
END:VEVENT
END:VCALENDAR
