BEGIN:VCALENDAR
VERSION:2.0
PRODID:-//IP.Board Calendar 4.4.10//EN
METHOD:PUBLISH
CALSCALE:GREGORIAN
X-WR-CALNAME:Игры и Сборы
BEGIN:VTIMEZONE
TZID:Europe/London
TZURL:http://tzurl.org/zoneinfo/Europe/London
X-LIC-LOCATION:Europe/London
BEGIN:DAYLIGHT
TZOFFSETFROM:+0000
TZOFFSETTO:+0100
TZNAME:BST
DTSTART:20170326T020000Z
RRULE:FREQ=YEARLY;BYMONTH=3;BYDAY=-1SU
END:DAYLIGHT
BEGIN:STANDARD
TZOFFSETFROM:+0100
TZOFFSETTO:+0000
TZNAME:GMT
DTSTART:20171029T020000Z
RRULE:FREQ=YEARLY;BYMONTH=10;BYDAY=-1SU
END:STANDARD
END:VTIMEZONE
BEGIN:VEVENT
SUMMARY:День Открытых Дверей
DTSTAMP:20170216T083356Z
SEQUENCE:0
UID:133-2-7dca8a21a4c482aeb41462120b156003@guardians.team
ORGANIZER;CN="Крази":admin@guardians.team
DESCRIPTION:\n\n	Тема на форуме.\n\n\n\n	 \n\n\n\n	\n\
	n\n	 \n\n\n\n	Меропри
	ятие для но
	вичков и на
	чинающих пей
	нтболистов.
	 Если ты хочеш
	ь начать играть в
	 пейнтбол или ищ
	ешь пейнтбольную к
	оманду - приезжай.\n\
	n	Это уже семнадцатый 
	ДОД. У нас всегда инте
	ресно!\n\n	 \n\n	Кро
	ме интересной
	 игры в пейнтб
	ол. Мы подроб
	но расскаж
	ем о нашей
	 команде.
	 Новичкам
	 покажем 
	и нагляд
	но продем
	онстрируем
	 пейнтбольн
	ые хитрости
	. Поделимся
	 общими зн
	аниями о п
	ейнтболе
	. Познако
	мим с пиротехни
	ческими средствами 
	доступных на пейнтбольных игра
	х.\n\n	 \n\n	Программа:\n\n	Сбор к 10.30 \
	n\n	Начало в 11.00\n\n	Первый сценарий в
	 11.30\n\n	Фановые игры с 14.30\n\n	Фин
	альное мочилово с 16:30\
	n\n	и в заключение шашлык и
	 приятное общение\n\n	 \n\n	Цены
	:\n\n	Входной билет: 300 руб.\n\n
		Коробка шаров: 2000 ру
	б. \n\n	Прокат оборудования 
	(камуфляж\, маска\, маркер\, 
	фидер): 300р.\n\n	 \n\n	Адре
	с:  Клуб Пейнтленд (
	Полигон) г. Москва\, у
	л. Заречье\, влад. 3
	\, территория парка Куз
	ьминки\, метро Люблино\, Кузьминки\, Вол
	жская\n\n
DTSTART;VALUE=DATE:20170311
ATTENDEE;CN="Крази";CUTYPE=INDIVIDUAL;PARTSTAT=ACCEPTED
	:admin@guardians.team
ATTENDEE;CN="Бабаха";CUTYPE=INDIVIDUAL;PARTSTAT=ACCEPT
	ED:admin@guardians.team
ATTENDEE;CN="Шила";CUTYPE=INDIVIDUAL;PARTSTAT=ACCEPTED:a
	dmin@guardians.team
ATTENDEE;CN="kostet";CUTYPE=INDIVIDUAL;PARTSTAT=ACCEPTED:adm
	in@guardians.team
ATTENDEE;CN="Korotkiy";CUTYPE=INDIVIDUAL;PARTSTAT=ACCEPTED:a
	dmin@guardians.team
ATTENDEE;CN="rubaka";CUTYPE=INDIVIDUAL;PARTSTAT=ACCEPTED:adm
	in@guardians.team
ATTENDEE;CN="ТИМ";CUTYPE=INDIVIDUAL;PARTSTAT=ACCEPTED:adm
	in@guardians.team
ATTENDEE;CN="Hummel";CUTYPE=INDIVIDUAL;PARTSTAT=ACCEPTED:adm
	in@guardians.team
END:VEVENT
END:VCALENDAR
